Package: MotifDb Version: 1.51.0 Command: /Library/Frameworks/R.framework/Resources/bin/R CMD check --install=check:MotifDb.install-out.txt --library=/Library/Frameworks/R.framework/Resources/library --no-vignettes --timings MotifDb_1.51.0.tar.gz StartedAt: 2025-05-06 21:58:59 -0400 (Tue, 06 May 2025) EndedAt: 2025-05-06 22:05:12 -0400 (Tue, 06 May 2025) EllapsedTime: 372.9 seconds RetCode: 0 Status: WARNINGS CheckDir: MotifDb.Rcheck Warnings: 2