Package: MotifDb Version: 1.51.0 Command: rm -rf MotifDb.buildbin-libdir && mkdir MotifDb.buildbin-libdir && /Users/biocbuild/BBS/utils/build-universal.sh MotifDb_1.51.0.tar.gz /Library/Frameworks/R.framework/Resources/bin/R MotifDb.buildbin-libdir StartedAt: 2025-05-07 00:53:40 -0400 (Wed, 07 May 2025) EndedAt: 2025-05-07 00:54:43 -0400 (Wed, 07 May 2025) EllapsedTime: 63.2 seconds RetCode: 0 Status: OK PackageFile: MotifDb_1.51.0.tgz PackageFileSize: 4.552 MiB