Package: MotifDb Version: 1.51.0 Command: /Library/Frameworks/R.framework/Resources/bin/R CMD check --install=check:MotifDb.install-out.txt --library=/Library/Frameworks/R.framework/Resources/library --no-vignettes --timings MotifDb_1.51.0.tar.gz StartedAt: 2025-05-08 20:43:16 -0400 (Thu, 08 May 2025) EndedAt: 2025-05-08 20:45:48 -0400 (Thu, 08 May 2025) EllapsedTime: 151.7 seconds RetCode: 0 Status: WARNINGS CheckDir: MotifDb.Rcheck Warnings: 2