Package: MotifDb Version: 1.51.0 Command: rm -rf MotifDb.buildbin-libdir && mkdir MotifDb.buildbin-libdir && /Users/biocbuild/BBS/utils/build-universal.sh MotifDb_1.51.0.tar.gz /Library/Frameworks/R.framework/Resources/bin/R MotifDb.buildbin-libdir StartedAt: 2025-05-08 23:21:33 -0400 (Thu, 08 May 2025) EndedAt: 2025-05-08 23:21:54 -0400 (Thu, 08 May 2025) EllapsedTime: 20.4 seconds RetCode: 0 Status: OK PackageFile: MotifDb_1.51.0.tgz PackageFileSize: 4.553 MiB