Package: MoonlightR Version: 1.35.0 Command: chmod a+r MoonlightR -R && F:\biocbuild\bbs-3.22-bioc\R\bin\R.exe CMD build --keep-empty-dirs --no-resave-data MoonlightR StartedAt: 2025-08-14 21:37:08 -0400 (Thu, 14 Aug 2025) EndedAt: 2025-08-14 21:40:08 -0400 (Thu, 14 Aug 2025) EllapsedTime: 180.2 seconds RetCode: 0 Status: OK PackageFile: MoonlightR_1.35.0.tar.gz PackageFileSize: 14.3 MiB