Package: MoonlightR Version: 1.33.0 Command: E:\biocbuild\bbs-3.21-bioc\R\bin\R.exe CMD INSTALL MoonlightR StartedAt: 2025-02-03 16:26:52 -0500 (Mon, 03 Feb 2025) EndedAt: 2025-02-03 16:27:43 -0500 (Mon, 03 Feb 2025) EllapsedTime: 50.8 seconds RetCode: 0 Status: OK