Package: Moonlight2R Version: 1.7.3 Command: /home/biocbuild/bbs-3.22-bioc/R/bin/R CMD INSTALL Moonlight2R StartedAt: 2025-10-06 15:47:39 -0400 (Mon, 06 Oct 2025) EndedAt: 2025-10-06 15:48:34 -0400 (Mon, 06 Oct 2025) EllapsedTime: 55.3 seconds RetCode: 0 Status: OK