Package: Moonlight2R Version: 1.7.0 Command: /Library/Frameworks/R.framework/Resources/bin/R CMD INSTALL Moonlight2R StartedAt: 2025-05-09 15:41:24 -0400 (Fri, 09 May 2025) EndedAt: 2025-05-09 15:42:38 -0400 (Fri, 09 May 2025) EllapsedTime: 73.4 seconds RetCode: 0 Status: OK