Package: Moonlight2R Version: 1.5.4 Command: /Library/Frameworks/R.framework/Resources/bin/R CMD check --install=check:Moonlight2R.install-out.txt --library=/Library/Frameworks/R.framework/Resources/library --no-vignettes --timings Moonlight2R_1.5.4.tar.gz StartedAt: 2025-01-31 20:15:27 -0500 (Fri, 31 Jan 2025) EndedAt: 2025-01-31 20:19:58 -0500 (Fri, 31 Jan 2025) EllapsedTime: 271.1 seconds RetCode: 0 Status: OK CheckDir: Moonlight2R.Rcheck Warnings: 0