Package: Moonlight2R Version: 1.5.4 Command: /Library/Frameworks/R.framework/Resources/bin/R CMD build --keep-empty-dirs --no-resave-data Moonlight2R StartedAt: 2025-01-31 17:01:26 -0500 (Fri, 31 Jan 2025) EndedAt: 2025-01-31 17:04:08 -0500 (Fri, 31 Jan 2025) EllapsedTime: 161.8 seconds RetCode: 0 Status: OK PackageFile: Moonlight2R_1.5.4.tar.gz PackageFileSize: 4.827 MiB