Package: MoleculeExperiment Version: 1.9.0 Command: /home/biocbuild/bbs-3.22-bioc/R/bin/R CMD INSTALL MoleculeExperiment StartedAt: 2025-10-01 15:27:52 -0400 (Wed, 01 Oct 2025) EndedAt: 2025-10-01 15:28:42 -0400 (Wed, 01 Oct 2025) EllapsedTime: 50.2 seconds RetCode: 0 Status: OK