Package: MoleculeExperiment Version: 1.9.0 Command: /home/biocbuild/bbs-3.22-bioc/R/bin/R CMD build --keep-empty-dirs --no-resave-data --md5 MoleculeExperiment StartedAt: 2025-10-01 19:07:31 -0400 (Wed, 01 Oct 2025) EndedAt: 2025-10-01 19:09:26 -0400 (Wed, 01 Oct 2025) EllapsedTime: 115.1 seconds RetCode: 0 Status: OK PackageFile: MoleculeExperiment_1.9.0.tar.gz PackageFileSize: 15.59 MiB