Package: Modstrings Version: 1.23.0 Command: /home/biocbuild/bbs-3.21-bioc/R/bin/R CMD build --keep-empty-dirs --no-resave-data Modstrings StartedAt: 2025-02-03 18:21:57 -0500 (Mon, 03 Feb 2025) EndedAt: 2025-02-03 18:22:35 -0500 (Mon, 03 Feb 2025) EllapsedTime: 38.1 seconds RetCode: 0 Status: OK PackageFile: Modstrings_1.23.0.tar.gz PackageFileSize: 823.7 KiB