Package: Modstrings Version: 1.23.0 Command: /home/biocbuild/R/R/bin/R CMD build --keep-empty-dirs --no-resave-data Modstrings StartedAt: 2025-01-29 00:28:48 -0000 (Wed, 29 Jan 2025) EndedAt: 2025-01-29 00:29:27 -0000 (Wed, 29 Jan 2025) EllapsedTime: 39.0 seconds RetCode: 0 Status: OK PackageFile: Modstrings_1.23.0.tar.gz PackageFileSize: 952.3 KiB