Package: ModCon Version: 1.17.0 Command: /home/biocbuild/bbs-3.22-bioc/R/bin/R CMD INSTALL ModCon StartedAt: 2025-07-23 15:05:22 -0400 (Wed, 23 Jul 2025) EndedAt: 2025-07-23 15:05:34 -0400 (Wed, 23 Jul 2025) EllapsedTime: 11.8 seconds RetCode: 0 Status: OK