Package: ModCon Version: 1.17.0 Command: /home/biocbuild/bbs-3.22-bioc/R/bin/R CMD check --install=check:ModCon.install-out.txt --library=/home/biocbuild/bbs-3.22-bioc/R/site-library --timings ModCon_1.17.0.tar.gz StartedAt: 2025-09-30 02:04:32 -0400 (Tue, 30 Sep 2025) EndedAt: 2025-09-30 02:10:08 -0400 (Tue, 30 Sep 2025) EllapsedTime: 336.4 seconds RetCode: 0 Status: OK CheckDir: ModCon.Rcheck Warnings: 0