Package: ModCon Version: 1.15.0 Command: /home/biocbuild/R/R/bin/R CMD build --keep-empty-dirs --no-resave-data ModCon StartedAt: 2025-01-29 00:28:48 -0000 (Wed, 29 Jan 2025) EndedAt: 2025-01-29 00:31:31 -0000 (Wed, 29 Jan 2025) EllapsedTime: 163.1 seconds RetCode: 0 Status: OK PackageFile: ModCon_1.15.0.tar.gz PackageFileSize: 1.932 MiB