Package: ModCon Version: 1.15.0 Command: /Library/Frameworks/R.framework/Resources/bin/R CMD build --keep-empty-dirs --no-resave-data ModCon StartedAt: 2025-02-03 17:35:39 -0500 (Mon, 03 Feb 2025) EndedAt: 2025-02-03 17:36:15 -0500 (Mon, 03 Feb 2025) EllapsedTime: 36.4 seconds RetCode: 0 Status: OK PackageFile: ModCon_1.15.0.tar.gz PackageFileSize: 1.912 MiB