Package: MinimumDistance Version: 1.53.1 Command: rm -rf MinimumDistance.buildbin-libdir && mkdir MinimumDistance.buildbin-libdir && F:\biocbuild\bbs-3.22-bioc\R\bin\R.exe CMD INSTALL --build --library=MinimumDistance.buildbin-libdir MinimumDistance_1.53.1.tar.gz StartedAt: 2025-08-15 10:42:32 -0400 (Fri, 15 Aug 2025) EndedAt: 2025-08-15 10:49:51 -0400 (Fri, 15 Aug 2025) EllapsedTime: 439.1 seconds RetCode: 0 Status: OK PackageFile: MinimumDistance_1.53.1.zip PackageFileSize: 3.515 MiB