Package: MinimumDistance Version: 1.51.0 Command: E:\biocbuild\bbs-3.21-bioc\R\bin\R.exe CMD check --no-multiarch --install=check:MinimumDistance.install-out.txt --library=E:\biocbuild\bbs-3.21-bioc\R\library --no-vignettes --timings MinimumDistance_1.51.0.tar.gz StartedAt: 2025-01-22 03:01:17 -0500 (Wed, 22 Jan 2025) EndedAt: 2025-01-22 03:07:09 -0500 (Wed, 22 Jan 2025) EllapsedTime: 351.7 seconds RetCode: 0 Status: WARNINGS CheckDir: MinimumDistance.Rcheck Warnings: 4