Package: MinimumDistance Version: 1.51.0 Command: rm -rf MinimumDistance.buildbin-libdir && mkdir MinimumDistance.buildbin-libdir && E:\biocbuild\bbs-3.21-bioc\R\bin\R.exe CMD INSTALL --build --library=MinimumDistance.buildbin-libdir MinimumDistance_1.51.0.tar.gz StartedAt: 2025-01-22 08:01:40 -0500 (Wed, 22 Jan 2025) EndedAt: 2025-01-22 08:08:22 -0500 (Wed, 22 Jan 2025) EllapsedTime: 401.6 seconds RetCode: 0 Status: OK PackageFile: MinimumDistance_1.51.0.zip PackageFileSize: 3.517 MiB