Package: MinimumDistance Version: 1.51.0 Command: /home/biocbuild/bbs-3.21-bioc/R/bin/R CMD INSTALL MinimumDistance StartedAt: 2025-02-03 15:42:30 -0500 (Mon, 03 Feb 2025) EndedAt: 2025-02-03 15:42:31 -0500 (Mon, 03 Feb 2025) EllapsedTime: 0.9 seconds RetCode: 1 Status: ERROR