Package: MinimumDistance Version: 1.51.0 Command: /Library/Frameworks/R.framework/Resources/bin/R CMD INSTALL MinimumDistance StartedAt: 2025-02-03 15:49:22 -0500 (Mon, 03 Feb 2025) EndedAt: 2025-02-03 15:49:24 -0500 (Mon, 03 Feb 2025) EllapsedTime: 1.2 seconds RetCode: 1 Status: ERROR