Package: MinimumDistance Version: 1.53.0 Command: /Library/Frameworks/R.framework/Resources/bin/R CMD build --keep-empty-dirs --no-resave-data MinimumDistance StartedAt: 2025-05-05 17:28:01 -0400 (Mon, 05 May 2025) EndedAt: 2025-05-05 17:29:39 -0400 (Mon, 05 May 2025) EllapsedTime: 98.3 seconds RetCode: 0 Status: OK PackageFile: MinimumDistance_1.53.0.tar.gz PackageFileSize: 2.552 MiB