############################################################################## ############################################################################## ### ### Running command: ### ### /Library/Frameworks/R.framework/Resources/bin/R CMD build --keep-empty-dirs --no-resave-data MinimumDistance ### ############################################################################## ############################################################################## * checking for file ‘MinimumDistance/DESCRIPTION’ ... OK * preparing ‘MinimumDistance’: * checking DESCRIPTION meta-information ... OK * installing the package to build vignettes ----------------------------------- ERROR: dependency ‘VanillaICE’ is not available for package ‘MinimumDistance’ Perhaps try a variation of: install.packages('VanillaICE') * removing ‘/private/tmp/Rtmpwf93E7/Rinstb2a111fb5f25/MinimumDistance’ ----------------------------------- ERROR: package installation failed