Package: MinimumDistance Version: 1.51.0 Command: /home/biocbuild/R/R/bin/R CMD build --keep-empty-dirs --no-resave-data MinimumDistance StartedAt: 2025-01-29 00:21:37 -0000 (Wed, 29 Jan 2025) EndedAt: 2025-01-29 00:21:38 -0000 (Wed, 29 Jan 2025) EllapsedTime: 1.0 seconds RetCode: 1 Status: ERROR PackageFile: None PackageFileSize: NA