Package: MinimumDistance Version: 1.51.0 Command: /Library/Frameworks/R.framework/Resources/bin/R CMD build --keep-empty-dirs --no-resave-data MinimumDistance StartedAt: 2025-02-03 17:33:30 -0500 (Mon, 03 Feb 2025) EndedAt: 2025-02-03 17:33:31 -0500 (Mon, 03 Feb 2025) EllapsedTime: 1.0 seconds RetCode: 1 Status: ERROR PackageFile: None PackageFileSize: NA