Package: MineICA Version: 1.47.0 Command: /Library/Frameworks/R.framework/Resources/bin/R CMD INSTALL MineICA StartedAt: 2025-02-02 15:43:30 -0500 (Sun, 02 Feb 2025) EndedAt: 2025-02-02 15:44:07 -0500 (Sun, 02 Feb 2025) EllapsedTime: 36.4 seconds RetCode: 0 Status: OK