Package: MineICA Version: 1.49.0 Command: /Library/Frameworks/R.framework/Resources/bin/R CMD check --install=check:MineICA.install-out.txt --library=/Library/Frameworks/R.framework/Resources/library --no-vignettes --timings MineICA_1.49.0.tar.gz StartedAt: 2025-04-27 21:45:01 -0400 (Sun, 27 Apr 2025) EndedAt: 2025-04-27 21:49:39 -0400 (Sun, 27 Apr 2025) EllapsedTime: 277.7 seconds RetCode: 0 Status: WARNINGS CheckDir: MineICA.Rcheck Warnings: 3