Package: MicrobiomeProfiler Version: 1.15.0 Command: /Library/Frameworks/R.framework/Resources/bin/R CMD INSTALL MicrobiomeProfiler StartedAt: 2025-05-22 15:40:05 -0400 (Thu, 22 May 2025) EndedAt: 2025-05-22 15:40:37 -0400 (Thu, 22 May 2025) EllapsedTime: 31.7 seconds RetCode: 0 Status: OK