Package: MiRaGE Version: 1.51.0 Command: /home/biocbuild/bbs-3.22-bioc/R/bin/R CMD INSTALL MiRaGE StartedAt: 2025-10-16 17:00:00 -0400 (Thu, 16 Oct 2025) EndedAt: 2025-10-16 17:00:15 -0400 (Thu, 16 Oct 2025) EllapsedTime: 14.3 seconds RetCode: 0 Status: OK