Package: MiRaGE Version: 1.51.0 Command: /home/biocbuild/bbs-3.22-bioc/R/bin/R CMD build --keep-empty-dirs --no-resave-data --md5 MiRaGE StartedAt: 2025-10-16 19:45:18 -0400 (Thu, 16 Oct 2025) EndedAt: 2025-10-16 19:46:19 -0400 (Thu, 16 Oct 2025) EllapsedTime: 61.1 seconds RetCode: 0 Status: OK PackageFile: MiRaGE_1.51.0.tar.gz PackageFileSize: 1.314 MiB