Package: MiRaGE Version: 1.49.0 Command: /home/biocbuild/R/R/bin/R CMD INSTALL MiRaGE StartedAt: 2025-01-29 19:46:41 -0000 (Wed, 29 Jan 2025) EndedAt: 2025-01-29 19:46:58 -0000 (Wed, 29 Jan 2025) EllapsedTime: 17.6 seconds RetCode: 0 Status: OK