Package: MiPP Version: 1.81.0 Command: chmod a+r MiPP -R && F:\biocbuild\bbs-3.22-bioc\R\bin\R.exe CMD build --keep-empty-dirs --no-resave-data MiPP StartedAt: 2025-08-14 21:30:25 -0400 (Thu, 14 Aug 2025) EndedAt: 2025-08-14 21:30:44 -0400 (Thu, 14 Aug 2025) EllapsedTime: 19.0 seconds RetCode: 0 Status: OK PackageFile: MiPP_1.81.0.tar.gz PackageFileSize: 319 KiB