Package: MiPP Version: 1.81.0 Command: rm -rf MiPP.buildbin-libdir && mkdir MiPP.buildbin-libdir && F:\biocbuild\bbs-3.22-bioc\R\bin\R.exe CMD INSTALL --build --library=MiPP.buildbin-libdir MiPP_1.81.0.tar.gz StartedAt: 2025-08-15 10:42:35 -0400 (Fri, 15 Aug 2025) EndedAt: 2025-08-15 10:42:47 -0400 (Fri, 15 Aug 2025) EllapsedTime: 11.4 seconds RetCode: 0 Status: OK PackageFile: MiPP_1.81.0.zip PackageFileSize: 379 KiB