Package: MiPP Version: 1.81.0 Command: /home/biocbuild/bbs-3.22-bioc/R/bin/R CMD INSTALL MiPP StartedAt: 2025-10-03 15:12:16 -0400 (Fri, 03 Oct 2025) EndedAt: 2025-10-03 15:12:22 -0400 (Fri, 03 Oct 2025) EllapsedTime: 5.3 seconds RetCode: 0 Status: OK