Package: MiChip Version: 1.63.0 Command: /home/biocbuild/bbs-3.22-bioc/R/bin/R CMD INSTALL MiChip StartedAt: 2025-10-02 15:13:14 -0400 (Thu, 02 Oct 2025) EndedAt: 2025-10-02 15:13:18 -0400 (Thu, 02 Oct 2025) EllapsedTime: 3.6 seconds RetCode: 0 Status: OK