Package: Mfuzz Version: 2.69.0 Command: /home/biocbuild/bbs-3.22-bioc/R/bin/R CMD INSTALL Mfuzz StartedAt: 2025-10-07 15:13:27 -0400 (Tue, 07 Oct 2025) EndedAt: 2025-10-07 15:13:32 -0400 (Tue, 07 Oct 2025) EllapsedTime: 5.1 seconds RetCode: 0 Status: OK