Package: Mfuzz Version: 2.69.0 Command: /home/biocbuild/bbs-3.22-bioc/R/bin/R CMD build --keep-empty-dirs --no-resave-data --md5 Mfuzz StartedAt: 2025-10-07 18:41:52 -0400 (Tue, 07 Oct 2025) EndedAt: 2025-10-07 18:42:02 -0400 (Tue, 07 Oct 2025) EllapsedTime: 10.0 seconds RetCode: 0 Status: OK PackageFile: Mfuzz_2.69.0.tar.gz PackageFileSize: 821.6 KiB