Package: MethylSeekR Version: 1.49.3 Command: /home/biocbuild/R/R/bin/R CMD build --keep-empty-dirs --no-resave-data MethylSeekR StartedAt: 2025-09-30 01:21:40 -0000 (Tue, 30 Sep 2025) EndedAt: 2025-09-30 01:27:10 -0000 (Tue, 30 Sep 2025) EllapsedTime: 330.1 seconds RetCode: 0 Status: OK PackageFile: MethylSeekR_1.49.3.tar.gz PackageFileSize: 1.583 MiB