Package: MethylSeekR Version: 1.49.0 Command: chmod a+r MethylSeekR -R && F:\biocbuild\bbs-3.22-bioc\R\bin\R.exe CMD build --keep-empty-dirs --no-resave-data MethylSeekR StartedAt: 2025-08-14 21:25:00 -0400 (Thu, 14 Aug 2025) EndedAt: 2025-08-14 21:27:07 -0400 (Thu, 14 Aug 2025) EllapsedTime: 126.5 seconds RetCode: 0 Status: OK PackageFile: MethylSeekR_1.49.0.tar.gz PackageFileSize: 1.594 MiB