Package: MethylSeekR Version: 1.51.0 Command: /home/biocbuild/bbs-3.23-bioc/R/bin/R CMD build --keep-empty-dirs --no-resave-data MethylSeekR StartedAt: 2025-11-26 18:37:32 -0500 (Wed, 26 Nov 2025) EndedAt: 2025-11-26 18:39:25 -0500 (Wed, 26 Nov 2025) EllapsedTime: 113.1 seconds RetCode: 0 Status: OK PackageFile: MethylSeekR_1.51.0.tar.gz PackageFileSize: 1.586 MiB