Package: MethylSeekR Version: 1.49.3 Command: /Library/Frameworks/R.framework/Resources/bin/R CMD build --keep-empty-dirs --no-resave-data MethylSeekR StartedAt: 2025-10-01 17:44:06 -0400 (Wed, 01 Oct 2025) EndedAt: 2025-10-01 17:46:16 -0400 (Wed, 01 Oct 2025) EllapsedTime: 130.1 seconds RetCode: 0 Status: OK PackageFile: MethylSeekR_1.49.3.tar.gz PackageFileSize: 1.585 MiB