Package: MethylSeekR Version: 1.49.0 Maintainer: Lukas Burger MaintainerEmail: Lukas.Burger at fmi.ch git_url: https://git.bioconductor.org/packages/MethylSeekR git_branch: devel git_last_commit: be215f7 git_last_commit_date: 2025-04-15 10:17:36 -0400 (Tue, 15 Apr 2025)