Package: MethylMix Version: 2.37.0 Command: /Library/Frameworks/R.framework/Resources/bin/R CMD INSTALL MethylMix StartedAt: 2025-02-16 15:29:46 -0500 (Sun, 16 Feb 2025) EndedAt: 2025-02-16 15:30:03 -0500 (Sun, 16 Feb 2025) EllapsedTime: 17.5 seconds RetCode: 0 Status: OK