Package: MethylAid Version: 1.43.0 Command: chmod a+r MethylAid -R && F:\biocbuild\bbs-3.22-bioc\R\bin\R.exe CMD build --keep-empty-dirs --no-resave-data MethylAid StartedAt: 2025-08-14 21:21:56 -0400 (Thu, 14 Aug 2025) EndedAt: 2025-08-14 21:30:27 -0400 (Thu, 14 Aug 2025) EllapsedTime: 510.5 seconds RetCode: 0 Status: OK PackageFile: MethylAid_1.43.0.tar.gz PackageFileSize: 3.014 MiB