Package: MethylAid Version: 1.43.0 Command: /home/biocbuild/bbs-3.22-bioc/R/bin/R CMD INSTALL MethylAid StartedAt: 2025-10-10 15:54:19 -0400 (Fri, 10 Oct 2025) EndedAt: 2025-10-10 15:55:08 -0400 (Fri, 10 Oct 2025) EllapsedTime: 49.6 seconds RetCode: 0 Status: OK