Package: MethylAid Version: 1.41.0 Command: /home/biocbuild/bbs-3.21-bioc/R/bin/R CMD INSTALL MethylAid StartedAt: 2025-01-10 15:50:45 -0500 (Fri, 10 Jan 2025) EndedAt: 2025-01-10 15:51:28 -0500 (Fri, 10 Jan 2025) EllapsedTime: 43.6 seconds RetCode: 0 Status: OK