Package: MethTargetedNGS Version: 1.41.0 Command: rm -rf MethTargetedNGS.buildbin-libdir && mkdir MethTargetedNGS.buildbin-libdir && F:\biocbuild\bbs-3.22-bioc\R\bin\R.exe CMD INSTALL --build --library=MethTargetedNGS.buildbin-libdir MethTargetedNGS_1.41.0.tar.gz StartedAt: 2025-08-15 10:40:28 -0400 (Fri, 15 Aug 2025) EndedAt: 2025-08-15 10:40:55 -0400 (Fri, 15 Aug 2025) EllapsedTime: 27.4 seconds RetCode: 0 Status: OK PackageFile: MethTargetedNGS_1.41.0.zip PackageFileSize: 175.2 KiB