Package: MethTargetedNGS Version: 1.41.0 Command: /Library/Frameworks/R.framework/Resources/bin/R CMD INSTALL MethTargetedNGS StartedAt: 2025-07-27 15:42:40 -0400 (Sun, 27 Jul 2025) EndedAt: 2025-07-27 15:42:57 -0400 (Sun, 27 Jul 2025) EllapsedTime: 17.0 seconds RetCode: 0 Status: OK